BEGIN:VCALENDAR
VERSION:2.0
PRODID:-//Shonda Buchanan - ECPv6.13.2.1//NONSGML v1.0//EN
CALSCALE:GREGORIAN
METHOD:PUBLISH
X-WR-CALNAME:Shonda Buchanan
X-ORIGINAL-URL:https://shondabuchanan.com
X-WR-CALDESC:Events for Shonda Buchanan
REFRESH-INTERVAL;VALUE=DURATION:PT1H
X-Robots-Tag:noindex
X-PUBLISHED-TTL:PT1H
BEGIN:VTIMEZONE
TZID:America/Los_Angeles
BEGIN:DAYLIGHT
TZOFFSETFROM:-0800
TZOFFSETTO:-0700
TZNAME:PDT
DTSTART:20230312T100000
END:DAYLIGHT
BEGIN:STANDARD
TZOFFSETFROM:-0700
TZOFFSETTO:-0800
TZNAME:PST
DTSTART:20231105T090000
END:STANDARD
END:VTIMEZONE
BEGIN:VEVENT
DTSTART;TZID=America/Los_Angeles:20230521T130000
DTEND;TZID=America/Los_Angeles:20230521T153000
DTSTAMP:20260424T090410
CREATED:20230412T141537Z
LAST-MODIFIED:20230417T195503Z
UID:1282-1684674000-1684683000@shondabuchanan.com
SUMMARY:Write Your Heritage Poems -- Poetry Workshop
DESCRIPTION:Are you ready to write those family heritage poems you’ve been thinking about and have always wanted to write? Do you want to write gift poems for anyone person or several people in your family? Or do you want to complete or revise poems or explore a poetry manuscript you’ve started? Let’s get to work! Join this workshop to create poems about your own family history.\nMust have at least 7 participants to hold workshop. Zoom link will be provided after registration and payment confirmation.\n\nFee: $150 (Or $325 if you want to participate in two workshops.)\n\nDate: May 21\, 2023\nTime: 1:00 PM – 3:30 PM\nVenue: Zoom
URL:https://shondabuchanan.com/workshop/write-your-heritage-poems-poetry-workshop/
LOCATION:Virtual\, United States
ATTACH;FMTTYPE=image/jpeg:https://shondabuchanan.com/wp-content/uploads/2023/01/Shonda-Buchanan-3.jpg
ORGANIZER;CN="Shonda Buchanan":MAILTO:shondabuchanan@gmail.com
END:VEVENT
BEGIN:VEVENT
DTSTART;TZID=America/Los_Angeles:20230430T130000
DTEND;TZID=America/Los_Angeles:20230430T143000
DTSTAMP:20260424T090410
CREATED:20230131T161103Z
LAST-MODIFIED:20230417T193851Z
UID:872-1682859600-1682865000@shondabuchanan.com
SUMMARY:Black Indian Heritage Geneaology Seminar & Writing Workshop
DESCRIPTION:I. Geneology Seminar: How to Find Your Black Indian Heritage  \nDo you want to learn how to find or further your research of your Black Indian family\, heritage and geneology? This workshop will explore the research journey I took to find my Native American ancestry and provide the top strategies\, tools and books to help you find your own family history. We will also write a poem for one of your family members. \nMust have at least 7 participants to hold workshop. Zoom link will be provided after registration and payment confirmation. \nFee: $150 (Or $325 if you want to participate in two workshops) \n  \nDate: April 30\, 2023 \nTime: 1:00 PM PT \nVenue: Zoom
URL:https://shondabuchanan.com/workshop/black-indian-heritage-geneaology-seminar-writing-workshop/
LOCATION:Virtual\, United States
CATEGORIES:Seminar,Writing
ATTACH;FMTTYPE=image/jpeg:https://shondabuchanan.com/wp-content/uploads/2023/01/Shonda-Buchanan-2.jpg
ORGANIZER;CN="Shonda Buchanan":MAILTO:shondabuchanan@gmail.com
END:VEVENT
BEGIN:VEVENT
DTSTART;TZID=America/Los_Angeles:20230416T130000
DTEND;TZID=America/Los_Angeles:20230416T153000
DTSTAMP:20260424T090410
CREATED:20230131T161850Z
LAST-MODIFIED:20230412T182211Z
UID:950-1681650000-1681659000@shondabuchanan.com
SUMMARY:Write Your Family Story! Writing Workshop
DESCRIPTION:Do you want to write your own family Black Indian memoir\, biography or a family history? Join me to begin mapping out the narratives of your family\, past and present\, for this workshop\, which will show you how to begin. \nMust have at least 7 participants to hold workshop. Zoom link will be provided after registration and payment confirmation. \n(Or $325 for both the Black Indian Heritage Geneaology Seminar & Writing Workshop) \n  \nDate: April 16\, 2023 \nTime: 1:00 PM PT \nVenue: Zoom
URL:https://shondabuchanan.com/workshop/write-your-family-story-writing-workshop/
LOCATION:Virtual\, United States
CATEGORIES:Writing
ATTACH;FMTTYPE=image/jpeg:https://shondabuchanan.com/wp-content/uploads/2023/01/Shonda-Buchanan-1.jpg
ORGANIZER;CN="Shonda Buchanan":MAILTO:shondabuchanan@gmail.com
END:VEVENT
END:VCALENDAR